BEGIN:VCALENDAR
VERSION:2.0
PRODID:-// - ECPv6.15.20//NONSGML v1.0//EN
CALSCALE:GREGORIAN
METHOD:PUBLISH
X-ORIGINAL-URL:https://ctsw.org.uk
X-WR-CALDESC:Events for 
REFRESH-INTERVAL;VALUE=DURATION:PT1H
X-Robots-Tag:noindex
X-PUBLISHED-TTL:PT1H
BEGIN:VTIMEZONE
TZID:UTC
BEGIN:STANDARD
TZOFFSETFROM:+0000
TZOFFSETTO:+0000
TZNAME:UTC
DTSTART:20250101T000000
END:STANDARD
END:VTIMEZONE
BEGIN:VEVENT
DTSTART;TZID=UTC:20260430T133000
DTEND;TZID=UTC:20260430T153000
DTSTAMP:20260423T084035
CREATED:20260113T164719Z
LAST-MODIFIED:20260122T163431Z
UID:667-1777555800-1777563000@ctsw.org.uk
SUMMARY:Business Meeting
DESCRIPTION:This meeting is to discuss how churches are working together
URL:https://ctsw.org.uk/event/buisiness-meeting-2/
LOCATION:The Salvation Amry hall\, Abbey Lane\, Saffron Walden\, Essex\, CB10 1AG\, United Kingdom
ORGANIZER;CN="Julia Attwood":MAILTO:chair2026@ctsw.org.uk
END:VEVENT
BEGIN:VEVENT
DTSTART;TZID=UTC:20260917T133000
DTEND;TZID=UTC:20260917T153000
DTSTAMP:20260423T084035
CREATED:20260113T164957Z
LAST-MODIFIED:20260122T163406Z
UID:670-1789651800-1789659000@ctsw.org.uk
SUMMARY:Business Meeting
DESCRIPTION:This meeting is to discuss how churches are working together
URL:https://ctsw.org.uk/event/buisiness-meeting-4/
LOCATION:The Salvation Amry hall\, Abbey Lane\, Saffron Walden\, Essex\, CB10 1AG\, United Kingdom
ORGANIZER;CN="Julia Attwood":MAILTO:chair2026@ctsw.org.uk
END:VEVENT
BEGIN:VEVENT
DTSTART;TZID=UTC:20270114T133000
DTEND;TZID=UTC:20270114T153000
DTSTAMP:20260423T084035
CREATED:20260113T165139Z
LAST-MODIFIED:20260122T163233Z
UID:672-1799933400-1799940600@ctsw.org.uk
SUMMARY:Business Meeting
DESCRIPTION:This meeting is to discuss how churches are working together
URL:https://ctsw.org.uk/event/buisiness-meeting-5/
LOCATION:The Salvation Amry hall\, Abbey Lane\, Saffron Walden\, Essex\, CB10 1AG\, United Kingdom
ORGANIZER;CN="Julia Attwood":MAILTO:chair2026@ctsw.org.uk
END:VEVENT
END:VCALENDAR