BEGIN:VCALENDAR
VERSION:2.0
PRODID:-// - ECPv6.15.20//NONSGML v1.0//EN
CALSCALE:GREGORIAN
METHOD:PUBLISH
X-ORIGINAL-URL:https://ctsw.org.uk
X-WR-CALDESC:Events for 
REFRESH-INTERVAL;VALUE=DURATION:PT1H
X-Robots-Tag:noindex
X-PUBLISHED-TTL:PT1H
BEGIN:VTIMEZONE
TZID:UTC
BEGIN:STANDARD
TZOFFSETFROM:+0000
TZOFFSETTO:+0000
TZNAME:UTC
DTSTART:20230101T000000
END:STANDARD
END:VTIMEZONE
BEGIN:VEVENT
DTSTART;TZID=UTC:20260113T133000
DTEND;TZID=UTC:20260113T150000
DTSTAMP:20260423T111316
CREATED:20250809T165758Z
LAST-MODIFIED:20260122T163452Z
UID:627-1768311000-1768316400@ctsw.org.uk
SUMMARY:Business Meeting
DESCRIPTION:This meeting is to discuss how churches are working together
URL:https://ctsw.org.uk/event/buisiness-meeting/
LOCATION:The Salvation Amry hall\, Abbey Lane\, Saffron Walden\, Essex\, CB10 1AG\, United Kingdom
END:VEVENT
BEGIN:VEVENT
DTSTART;TZID=UTC:20240208T140000
DTEND;TZID=UTC:20240208T150000
DTSTAMP:20260423T111316
CREATED:20230627T114038Z
LAST-MODIFIED:20260122T163510Z
UID:389-1707400800-1707404400@ctsw.org.uk
SUMMARY:Business Meeting
DESCRIPTION:This meeting is in person URC Vestry
URL:https://ctsw.org.uk/event/buisiness-meeting-3/
LOCATION:URC Vestry\, URC Abbey Lane\, Saffron Walden\, Essex\, United Kingdom
END:VEVENT
END:VCALENDAR